{
 "currentVersion": 10.81,
 "serviceDescription": "LR",
 "name": "LR",
 "description": "",
 "extent": {
  "xmin": -179.99999999999997,
  "ymin": -90,
  "xmax": 180,
  "ymax": 90,
  "spatialReference": {
   "wkid": 4326,
   "latestWkid": 4326
  }
 },
 "initialExtent": {
  "xmin": -179.99999999999997,
  "ymin": -90,
  "xmax": 180,
  "ymax": 90,
  "spatialReference": {
   "wkid": 4326,
   "latestWkid": 4326
  }
 },
 "fullExtent": {
  "xmin": -179.99999999999997,
  "ymin": -90,
  "xmax": 180,
  "ymax": 90,
  "spatialReference": {
   "wkid": 4326,
   "latestWkid": 4326
  }
 },
 "pixelSizeX": 0.008333333333333333,
 "pixelSizeY": 0.008333333333333333,
 "datasetFormat": "AMD",
 "uncompressedSize": 933120000,
 "blockWidth": 2048,
 "blockHeight": 256,
 "compressionType": "None",
 "bandNames": [
  "Band_1"
 ],
 "allowCopy": false,
 "allowAnalysis": true,
 "bandCount": 1,
 "pixelType": "U8",
 "minPixelSize": 0,
 "maxPixelSize": 0,
 "copyrightText": "",
 "serviceDataType": "esriImageServiceDataTypeThematic",
 "serviceSourceType": "esriImageServiceSourceTypeMosaicDataset",
 "minValues": [
  0
 ],
 "maxValues": [
  33
 ],
 "meanValues": [
  21.083494826392865
 ],
 "stdvValues": [
  10.476627977665501
 ],
 "objectIdField": "OBJECTID",
 "fields": [
  {
   "name": "OBJECTID",
   "type": "esriFieldTypeOID",
   "alias": "OBJECTID",
   "domain": null
  },
  {
   "name": "Shape",
   "type": "esriFieldTypeGeometry",
   "alias": "Shape",
   "domain": null
  },
  {
   "name": "Name",
   "type": "esriFieldTypeString",
   "alias": "Name",
   "domain": null,
   "length": 200
  },
  {
   "name": "Category",
   "type": "esriFieldTypeInteger",
   "alias": "Category",
   "domain": {
    "type": "codedValue",
    "name": "MosaicCatalogItemCategoryDomain",
    "description": "Catalog item categories.",
    "codedValues": [
     {
      "name": "Unknown",
      "code": 0
     },
     {
      "name": "Primary",
      "code": 1
     },
     {
      "name": "Overview",
      "code": 2
     },
     {
      "name": "Unprocessed Overview",
      "code": 3
     },
     {
      "name": "Partial Overview",
      "code": 4
     },
     {
      "name": "Inactive",
      "code": 5
     },
     {
      "name": "Uploaded",
      "code": 253
     },
     {
      "name": "Incomplete",
      "code": 254
     },
     {
      "name": "Custom",
      "code": 255
     }
    ],
    "mergePolicy": "esriMPTDefaultValue",
    "splitPolicy": "esriSPTDefaultValue"
   }
  },
  {
   "name": "sub_theme_name",
   "type": "esriFieldTypeString",
   "alias": "Sub-Theme Name",
   "domain": null,
   "length": 255
  },
  {
   "name": "variable",
   "type": "esriFieldTypeString",
   "alias": "Variable Name",
   "domain": null,
   "length": 255
  },
  {
   "name": "file_description",
   "type": "esriFieldTypeString",
   "alias": "Description",
   "domain": null,
   "length": 1000
  },
  {
   "name": "year",
   "type": "esriFieldTypeString",
   "alias": "Time Period",
   "domain": null,
   "length": 255
  },
  {
   "name": "model",
   "type": "esriFieldTypeString",
   "alias": "Climate Model",
   "domain": null,
   "length": 255
  },
  {
   "name": "rcp",
   "type": "esriFieldTypeString",
   "alias": "RCP",
   "domain": null,
   "length": 255
  },
  {
   "name": "units",
   "type": "esriFieldTypeString",
   "alias": "Data Units",
   "domain": null,
   "length": 255
  },
  {
   "name": "renderer",
   "type": "esriFieldTypeString",
   "alias": "Recommended Renderer",
   "domain": null,
   "length": 255
  },
  {
   "name": "download_url",
   "type": "esriFieldTypeString",
   "alias": "Download URL",
   "domain": null,
   "length": 255
  },
  {
   "name": "Thumbnail",
   "type": "esriFieldTypeBlob",
   "alias": "Thumbnail",
   "domain": null
  },
  {
   "name": "file_id",
   "type": "esriFieldTypeString",
   "alias": "File Identifier",
   "domain": null,
   "length": 255
  }
 ],
 "capabilities": "Catalog,Pixels,Download,Image,Metadata",
 "defaultMosaicMethod": "Northwest",
 "allowedMosaicMethods": "NorthWest,Center,LockRaster,ByAttribute,Nadir,Viewpoint,Seamline,None",
 "sortField": "",
 "sortValue": null,
 "sortAscending": true,
 "mosaicOperator": "First",
 "maxDownloadSizeLimit": 2048,
 "defaultCompressionQuality": 75,
 "defaultResamplingMethod": "Nearest",
 "maxImageHeight": 4100,
 "maxImageWidth": 15000,
 "maxRecordCount": 1000,
 "maxDownloadImageCount": 20,
 "maxMosaicImageCount": 20,
 "allowRasterFunction": true,
 "rasterFunctionInfos": [
  {
   "name": "AEZ Classification (33 Classes)",
   "description": "AEZ33 Renderer for GAEZv4",
   "help": ""
  },
  {
   "name": "None",
   "description": "Make a Raster or Raster Dataset into a Function Raster Dataset.",
   "help": ""
  },
  {
   "name": "AEZ Classification (57 Classes)",
   "description": "AEZ57 Renderer for GAEZv4",
   "help": ""
  },
  {
   "name": "Median Altitude",
   "description": "GAEZv4 DEM16W2 Renderer",
   "help": ""
  },
  {
   "name": "Exclusion Areas",
   "description": "Exclusion7 Renderer for GAEZv4",
   "help": ""
  },
  {
   "name": "Dominant Soil",
   "description": "HWSD_DOMI Renderer for GAEZv4",
   "help": ""
  },
  {
   "name": "Major Hydrological Basins",
   "description": "HYDROMAJSQ05 Renderer for GAEZv4",
   "help": ""
  },
  {
   "name": "Dominant Land Cover",
   "description": "LCDOM2 Raster Function",
   "help": ""
  },
  {
   "name": "Moisture Regime Class",
   "description": "MST2 Renderer for GAEZv4",
   "help": ""
  },
  {
   "name": "Suitability Classes",
   "description": "GAEZv4 SI10 Renderer",
   "help": ""
  },
  {
   "name": "Slope Class Renderer",
   "description": "GAEZv4 Slope renderer - SLOPE8B",
   "help": ""
  },
  {
   "name": "Soil Regime Renderer",
   "description": "GAEZv4 Soil Regime Renderer",
   "help": ""
  },
  {
   "name": "Limiting Soil Quality",
   "description": "GAEZv4 SQ Index (sqindex2) Renderer",
   "help": ""
  },
  {
   "name": "Soil Resource Classes",
   "description": "SQ13 Renderer for GAEZv4",
   "help": ""
  },
  {
   "name": "Thermal Regime Class",
   "description": "GAEZ v4 THZ4 Renderer",
   "help": ""
  },
  {
   "name": "Share of Class in Grid Cell",
   "description": "A raster function template.",
   "help": ""
  },
  {
   "name": "Socio-economic Data",
   "description": "A raster function template.",
   "help": ""
  }
 ],
 "rasterTypeInfos": [
  {
   "name": "Raster Dataset",
   "description": "Supports all ArcGIS Raster Datasets",
   "help": ""
  }
 ],
 "mensurationCapabilities": "Basic",
 "hasHistograms": true,
 "hasColormap": false,
 "hasRasterAttributeTable": false,
 "minScale": 0,
 "maxScale": 0,
 "exportTilesAllowed": false,
 "hasMultidimensions": false,
 "supportsStatistics": true,
 "supportsAdvancedQueries": true,
 "editFieldsInfo": null,
 "ownershipBasedAccessControlForRasters": null,
 "allowComputeTiePoints": false,
 "useStandardizedQueries": true,
 "advancedQueryCapabilities": {
  "useStandardizedQueries": true,
  "supportsStatistics": true,
  "supportsOrderBy": true,
  "supportsDistinct": true,
  "supportsPagination": true
 },
 "spatialReference": {
  "wkid": 4326,
  "latestWkid": 4326
 }
}
