{
 "currentVersion": 10.81,
 "serviceDescription": "res02",
 "name": "res02",
 "description": "",
 "extent": {
  "xmin": -180,
  "ymin": -89.9999928,
  "xmax": 179.9999856,
  "ymax": 90,
  "spatialReference": {
   "wkid": 4326,
   "latestWkid": 4326
  }
 },
 "initialExtent": {
  "xmin": -180,
  "ymin": -89.9999928,
  "xmax": 179.9999856,
  "ymax": 90,
  "spatialReference": {
   "wkid": 4326,
   "latestWkid": 4326
  }
 },
 "fullExtent": {
  "xmin": -180,
  "ymin": -89.9999928,
  "xmax": 179.9999856,
  "ymax": 90,
  "spatialReference": {
   "wkid": 4326,
   "latestWkid": 4326
  }
 },
 "pixelSizeX": 0.08333333,
 "pixelSizeY": 0.08333333,
 "datasetFormat": "AMD",
 "uncompressedSize": 18662400,
 "blockWidth": 2048,
 "blockHeight": 256,
 "compressionType": "None",
 "bandNames": [
  "Band_1"
 ],
 "allowCopy": false,
 "allowAnalysis": true,
 "bandCount": 1,
 "pixelType": "S16",
 "minPixelSize": 0,
 "maxPixelSize": 0,
 "copyrightText": "",
 "serviceDataType": "esriImageServiceDataTypeGeneric",
 "serviceSourceType": "esriImageServiceSourceTypeMosaicDataset",
 "minValues": [],
 "maxValues": [],
 "meanValues": [],
 "stdvValues": [],
 "objectIdField": "objectid",
 "fields": [
  {
   "name": "objectid",
   "type": "esriFieldTypeOID",
   "alias": "OBJECTID",
   "domain": null
  },
  {
   "name": "name",
   "type": "esriFieldTypeString",
   "alias": "Name",
   "domain": null,
   "length": 200
  },
  {
   "name": "category",
   "type": "esriFieldTypeInteger",
   "alias": "Category",
   "domain": {
    "type": "codedValue",
    "name": "MosaicCatalogItemCategoryDomain",
    "description": "Catalog item categories.",
    "codedValues": [
     {
      "name": "Unknown",
      "code": 0
     },
     {
      "name": "Primary",
      "code": 1
     },
     {
      "name": "Overview",
      "code": 2
     },
     {
      "name": "Unprocessed Overview",
      "code": 3
     },
     {
      "name": "Partial Overview",
      "code": 4
     },
     {
      "name": "Inactive",
      "code": 5
     },
     {
      "name": "Uploaded",
      "code": 253
     },
     {
      "name": "Incomplete",
      "code": 254
     },
     {
      "name": "Custom",
      "code": 255
     }
    ],
    "mergePolicy": "esriMPTDefaultValue",
    "splitPolicy": "esriSPTDefaultValue"
   }
  },
  {
   "name": "filepath",
   "type": "esriFieldTypeString",
   "alias": "Path to File",
   "domain": null,
   "length": 255
  },
  {
   "name": "sub_theme_name",
   "type": "esriFieldTypeString",
   "alias": "Sub-Theme Name",
   "domain": null,
   "length": 255
  },
  {
   "name": "variable",
   "type": "esriFieldTypeString",
   "alias": "Variable Name",
   "domain": null,
   "length": 255
  },
  {
   "name": "file_description",
   "type": "esriFieldTypeString",
   "alias": "Description",
   "domain": null,
   "length": 255
  },
  {
   "name": "year",
   "type": "esriFieldTypeString",
   "alias": "Time Period",
   "domain": null,
   "length": 255
  },
  {
   "name": "model",
   "type": "esriFieldTypeString",
   "alias": "Climate Model",
   "domain": null,
   "length": 255
  },
  {
   "name": "rcp",
   "type": "esriFieldTypeString",
   "alias": "RCP",
   "domain": null,
   "length": 255
  },
  {
   "name": "crop",
   "type": "esriFieldTypeString",
   "alias": "Crop",
   "domain": null,
   "length": 255
  },
  {
   "name": "water_supply",
   "type": "esriFieldTypeString",
   "alias": "Water Supply",
   "domain": null,
   "length": 255
  },
  {
   "name": "input_level",
   "type": "esriFieldTypeString",
   "alias": "Input Level",
   "domain": null,
   "length": 255
  },
  {
   "name": "units",
   "type": "esriFieldTypeString",
   "alias": "Data Units",
   "domain": null,
   "length": 255
  },
  {
   "name": "renderer",
   "type": "esriFieldTypeString",
   "alias": "Recommended Renderer",
   "domain": null,
   "length": 255
  },
  {
   "name": "download_url",
   "type": "esriFieldTypeString",
   "alias": "Download URL",
   "domain": null,
   "length": 255
  },
  {
   "name": "shape",
   "type": "esriFieldTypeGeometry",
   "alias": "Shape",
   "domain": null
  },
  {
   "name": "file_id",
   "type": "esriFieldTypeString",
   "alias": "File Identifier",
   "domain": null,
   "length": 255
  }
 ],
 "capabilities": "Catalog,Download,Image,Metadata",
 "defaultMosaicMethod": "Northwest",
 "allowedMosaicMethods": "NorthWest,Center,LockRaster,ByAttribute,Nadir,Viewpoint,Seamline,None",
 "sortField": "",
 "sortValue": null,
 "sortAscending": true,
 "mosaicOperator": "First",
 "maxDownloadSizeLimit": 2048,
 "defaultCompressionQuality": 75,
 "defaultResamplingMethod": "Nearest",
 "maxImageHeight": 4100,
 "maxImageWidth": 15000,
 "maxRecordCount": 1000,
 "maxDownloadImageCount": 20,
 "maxMosaicImageCount": 1,
 "allowRasterFunction": true,
 "rasterFunctionInfos": [
  {
   "name": "Agro-climatic Potential Yield Symbology",
   "description": "A raster function template.",
   "help": ""
  },
  {
   "name": "None",
   "description": "Make a Raster or Raster Dataset into a Function Raster Dataset.",
   "help": ""
  },
  {
   "name": "Selected LUT Sequence Number",
   "description": "QUAL256 random-color renderer for GAEZ v4",
   "help": ""
  },
  {
   "name": "Beginning of Crop Growth Cycle (day)",
   "description": "A raster function template.",
   "help": ""
  },
  {
   "name": "Growth Cycle Attributes - Precipitation",
   "description": "A raster function template.",
   "help": ""
  },
  {
   "name": "Growth Cycle Attributes - Temperature",
   "description": "A raster function template.",
   "help": ""
  },
  {
   "name": "Agro-climatic Potential Yield - Days",
   "description": "A raster function template.",
   "help": ""
  }
 ],
 "rasterTypeInfos": [
  {
   "name": "Raster Dataset",
   "description": "Supports all ArcGIS Raster Datasets",
   "help": ""
  }
 ],
 "mensurationCapabilities": "Basic",
 "hasHistograms": false,
 "hasColormap": false,
 "hasRasterAttributeTable": false,
 "minScale": 0,
 "maxScale": 0,
 "exportTilesAllowed": false,
 "hasMultidimensions": false,
 "supportsStatistics": true,
 "supportsAdvancedQueries": true,
 "editFieldsInfo": null,
 "ownershipBasedAccessControlForRasters": null,
 "allowComputeTiePoints": false,
 "useStandardizedQueries": true,
 "advancedQueryCapabilities": {
  "useStandardizedQueries": true,
  "supportsStatistics": true,
  "supportsOrderBy": true,
  "supportsDistinct": true,
  "supportsPagination": true
 },
 "spatialReference": {
  "wkid": 4326,
  "latestWkid": 4326
 }
}
