View In:
ArcGIS JavaScript
ArcGIS Online Map Viewer
ArcGIS Earth
ArcMap
View Footprint In:
ArcGIS Online Map Viewer
Service Description: res05
Name: res05
Description:
Single Fused Map Cache: false
Extent:
XMin: -179.99999999999997
YMin: -89.9999928
XMax: 179.99998560000003
YMax: 90
Spatial Reference: 4326
(4326)
Initial Extent:
XMin: -179.99999999999997
YMin: -89.9999928
XMax: 179.99998560000003
YMax: 90
Spatial Reference: 4326
(4326)
Full Extent:
XMin: -179.99999999999997
YMin: -89.9999928
XMax: 179.99998560000003
YMax: 90
Spatial Reference: 4326
(4326)
Pixel Size X: 0.08333333
Pixel Size Y: 0.08333333
Band Count: 1
Pixel Type: S16
RasterFunction Infos: {"rasterFunctionInfos": [
{
"name": "Suitability and Attainable Yield Symbology",
"description": "A raster function template.",
"help": ""
},
{
"name": "None",
"description": "Make a Raster or Raster Dataset into a Function Raster Dataset.",
"help": ""
},
{
"name": "Crop Suitability Index in Classes - All Land in Grid Cell",
"description": "SI10 Renderer for GAEZ v4 Data",
"help": ""
},
{
"name": "Crop Suitability Index in Classes - Current Cropland in Grid Cell",
"description": "SI11 Renderer for GAEZ v4 data",
"help": ""
},
{
"name": "Crop Water Indicators",
"description": "A raster function template.",
"help": ""
}
]}
Mensuration Capabilities: None
Has Histograms: false
Has Colormap: false
Has Multi Dimensions : false
Rendering Rule:
Min Scale: 0
Max Scale: 0
Copyright Text:
Service Data Type: esriImageServiceDataTypeGeneric
Min Values: N/A
Max Values: N/A
Mean Values: N/A
Standard Deviation Values: N/A
Object ID Field: objectid
Fields:
-
objectid
(
type: esriFieldTypeOID, alias: OBJECTID
)
-
name
(
type: esriFieldTypeString, alias: Name, length: 200
)
-
category
(
type: esriFieldTypeInteger, alias: Category
, Coded Values:
[0: Unknown]
, [1: Primary]
, [2: Overview]
, ...6 more...
)
-
filepath
(
type: esriFieldTypeString, alias: Path to File, length: 255
)
-
sub_theme_name
(
type: esriFieldTypeString, alias: Sub-Theme Name, length: 255
)
-
variable
(
type: esriFieldTypeString, alias: Variable Name, length: 255
)
-
file_description
(
type: esriFieldTypeString, alias: Description, length: 1000
)
-
year
(
type: esriFieldTypeString, alias: Time Period, length: 255
)
-
model
(
type: esriFieldTypeString, alias: Climate Model, length: 255
)
-
rcp
(
type: esriFieldTypeString, alias: RCP, length: 255
)
-
crop
(
type: esriFieldTypeString, alias: Crop, length: 255
)
-
water_supply
(
type: esriFieldTypeString, alias: Water Supply, length: 255
)
-
input_level
(
type: esriFieldTypeString, alias: Input Level, length: 255
)
-
c02_fertilization
(
type: esriFieldTypeString, alias: CO2 Fertilization, length: 255
)
-
units
(
type: esriFieldTypeString, alias: Data Units, length: 255
)
-
renderer
(
type: esriFieldTypeString, alias: Recommended Renderer, length: 255
)
-
download_url
(
type: esriFieldTypeString, alias: Download URL, length: 1000
)
-
shape
(
type: esriFieldTypeGeometry, alias: Shape
)
-
file_id
(
type: esriFieldTypeString, alias: File Identifier, length: 255
)
Default Mosaic Method: Northwest
Allowed Mosaic Methods: NorthWest,Center,LockRaster,ByAttribute,Nadir,Viewpoint,Seamline,None
SortField:
SortValue: null
Mosaic Operator: First
Default Compression Quality: 75
Default Resampling Method: Nearest
Max Record Count: 1000
Max Image Height: 4100
Max Image Width: 15000
Max Download Image Count: 20
Max Mosaic Image Count: 1
Allow Raster Function: true
Allow Copy: false
Allow Analysis: true
Allow Compute TiePoints: false
Supports Statistics: true
Supports Advanced Queries: true
Use StandardizedQueries: true
Raster Type Infos:
Name: Raster Dataset
Description: Supports all ArcGIS Raster Datasets
Help:
Has Raster Attribute Table: false
Edit Fields Info: null
Ownership Based AccessControl For Rasters: null
Child Resources:
Info
Statistics
Key Properties
Legend
Raster Function Infos
Supported Operations:
Export Image
Query
Identify
Download Rasters
Compute Histograms
Compute Statistics Histograms
Get Samples
Compute Class Statistics
Query Boundary
Compute Pixel Location
Validate
Project