View In:
ArcGIS JavaScript
ArcGIS Online Map Viewer
ArcGIS Earth
ArcMap
View Footprint In:
ArcGIS Online Map Viewer
Service Description: LR
Name: LR
Description:
Single Fused Map Cache: false
Extent:
XMin: -179.99999999999997
YMin: -90
XMax: 180
YMax: 90
Spatial Reference: 4326
(4326)
Initial Extent:
XMin: -179.99999999999997
YMin: -90
XMax: 180
YMax: 90
Spatial Reference: 4326
(4326)
Full Extent:
XMin: -179.99999999999997
YMin: -90
XMax: 180
YMax: 90
Spatial Reference: 4326
(4326)
Pixel Size X: 0.008333333333333333
Pixel Size Y: 0.008333333333333333
Band Count: 1
Pixel Type: U8
RasterFunction Infos: {"rasterFunctionInfos": [
{
"name": "AEZ Classification (33 Classes)",
"description": "AEZ33 Renderer for GAEZv4",
"help": ""
},
{
"name": "None",
"description": "Make a Raster or Raster Dataset into a Function Raster Dataset.",
"help": ""
},
{
"name": "AEZ Classification (57 Classes)",
"description": "AEZ57 Renderer for GAEZv4",
"help": ""
},
{
"name": "Median Altitude",
"description": "GAEZv4 DEM16W2 Renderer",
"help": ""
},
{
"name": "Exclusion Areas",
"description": "Exclusion7 Renderer for GAEZv4",
"help": ""
},
{
"name": "Dominant Soil",
"description": "HWSD_DOMI Renderer for GAEZv4",
"help": ""
},
{
"name": "Major Hydrological Basins",
"description": "HYDROMAJSQ05 Renderer for GAEZv4",
"help": ""
},
{
"name": "Dominant Land Cover",
"description": "LCDOM2 Raster Function",
"help": ""
},
{
"name": "Moisture Regime Class",
"description": "MST2 Renderer for GAEZv4",
"help": ""
},
{
"name": "Suitability Classes",
"description": "GAEZv4 SI10 Renderer",
"help": ""
},
{
"name": "Slope Class Renderer",
"description": "GAEZv4 Slope renderer - SLOPE8B",
"help": ""
},
{
"name": "Soil Regime Renderer",
"description": "GAEZv4 Soil Regime Renderer",
"help": ""
},
{
"name": "Limiting Soil Quality",
"description": "GAEZv4 SQ Index (sqindex2) Renderer",
"help": ""
},
{
"name": "Soil Resource Classes",
"description": "SQ13 Renderer for GAEZv4",
"help": ""
},
{
"name": "Thermal Regime Class",
"description": "GAEZ v4 THZ4 Renderer",
"help": ""
},
{
"name": "Share of Class in Grid Cell",
"description": "A raster function template.",
"help": ""
},
{
"name": "Socio-economic Data",
"description": "A raster function template.",
"help": ""
}
]}
Mensuration Capabilities: Basic
Has Histograms: true
Has Colormap: false
Has Multi Dimensions : false
Rendering Rule:
Min Scale: 0
Max Scale: 0
Copyright Text:
Service Data Type: esriImageServiceDataTypeThematic
Min Values: 0
Max Values: 33
Mean Values: 21.083494826392865
Standard Deviation Values: 10.476627977665501
Object ID Field: OBJECTID
Fields:
-
OBJECTID
(
type: esriFieldTypeOID, alias: OBJECTID
)
-
Shape
(
type: esriFieldTypeGeometry, alias: Shape
)
-
Name
(
type: esriFieldTypeString, alias: Name, length: 200
)
-
Category
(
type: esriFieldTypeInteger, alias: Category
, Coded Values:
[0: Unknown]
, [1: Primary]
, [2: Overview]
, ...6 more...
)
-
sub_theme_name
(
type: esriFieldTypeString, alias: Sub-Theme Name, length: 255
)
-
variable
(
type: esriFieldTypeString, alias: Variable Name, length: 255
)
-
file_description
(
type: esriFieldTypeString, alias: Description, length: 1000
)
-
year
(
type: esriFieldTypeString, alias: Time Period, length: 255
)
-
model
(
type: esriFieldTypeString, alias: Climate Model, length: 255
)
-
rcp
(
type: esriFieldTypeString, alias: RCP, length: 255
)
-
units
(
type: esriFieldTypeString, alias: Data Units, length: 255
)
-
renderer
(
type: esriFieldTypeString, alias: Recommended Renderer, length: 255
)
-
download_url
(
type: esriFieldTypeString, alias: Download URL, length: 255
)
-
Thumbnail
(
type: esriFieldTypeBlob, alias: Thumbnail
)
-
file_id
(
type: esriFieldTypeString, alias: File Identifier, length: 255
)
Default Mosaic Method: Northwest
Allowed Mosaic Methods: NorthWest,Center,LockRaster,ByAttribute,Nadir,Viewpoint,Seamline,None
SortField:
SortValue: null
Mosaic Operator: First
Default Compression Quality: 75
Default Resampling Method: Nearest
Max Record Count: 1000
Max Image Height: 4100
Max Image Width: 15000
Max Download Image Count: 20
Max Mosaic Image Count: 20
Allow Raster Function: true
Allow Copy: false
Allow Analysis: true
Allow Compute TiePoints: false
Supports Statistics: true
Supports Advanced Queries: true
Use StandardizedQueries: true
Raster Type Infos:
Name: Raster Dataset
Description: Supports all ArcGIS Raster Datasets
Help:
Has Raster Attribute Table: false
Edit Fields Info: null
Ownership Based AccessControl For Rasters: null
Child Resources:
Info
Histograms
Statistics
Key Properties
Legend
Raster Function Infos
Supported Operations:
Export Image
Query
Identify
Download Rasters
Compute Histograms
Compute Statistics Histograms
Get Samples
Compute Class Statistics
Query Boundary
Compute Pixel Location
Validate
Project